BEGIN:VCALENDAR
VERSION:2.0
PRODID:-//CCX Media - ECPv6.15.12.2//NONSGML v1.0//EN
CALSCALE:GREGORIAN
METHOD:PUBLISH
X-WR-CALNAME:CCX Media
X-ORIGINAL-URL:https://ccxmedia.org
X-WR-CALDESC:Events for CCX Media
REFRESH-INTERVAL;VALUE=DURATION:PT1H
X-Robots-Tag:noindex
X-PUBLISHED-TTL:PT1H
BEGIN:VTIMEZONE
TZID:America/Chicago
BEGIN:DAYLIGHT
TZOFFSETFROM:-0600
TZOFFSETTO:-0500
TZNAME:CDT
DTSTART:20250309T080000
END:DAYLIGHT
BEGIN:STANDARD
TZOFFSETFROM:-0500
TZOFFSETTO:-0600
TZNAME:CST
DTSTART:20251102T070000
END:STANDARD
BEGIN:DAYLIGHT
TZOFFSETFROM:-0600
TZOFFSETTO:-0500
TZNAME:CDT
DTSTART:20260308T080000
END:DAYLIGHT
BEGIN:STANDARD
TZOFFSETFROM:-0500
TZOFFSETTO:-0600
TZNAME:CST
DTSTART:20261101T070000
END:STANDARD
BEGIN:DAYLIGHT
TZOFFSETFROM:-0600
TZOFFSETTO:-0500
TZNAME:CDT
DTSTART:20270314T080000
END:DAYLIGHT
BEGIN:STANDARD
TZOFFSETFROM:-0500
TZOFFSETTO:-0600
TZNAME:CST
DTSTART:20271107T070000
END:STANDARD
END:VTIMEZONE
BEGIN:VEVENT
DTSTART;TZID=America/Chicago:20260502T100000
DTEND;TZID=America/Chicago:20260502T170000
DTSTAMP:20260420T042251
CREATED:20260420T035834Z
LAST-MODIFIED:20260420T035834Z
UID:10000764-1777716000-1777741200@ccxmedia.org
SUMMARY:Celebrating 100 Years - Historic Robbinsdale Library
DESCRIPTION:Celebration taking place from May 1 – May 23 (Hours: Friday & Saturday 1 – 5 pm\, Sunday 1 – 4 pm) with a reception on May 2nd.  \n  \nSponsored
URL:https://ccxmedia.org/event/celebrating-100-years-historic-robbinsdale-library/
LOCATION:Robbinsdale Historic Library\, 4915 - 42nd Ave. N.\, Robbinsdale\, Minnesota\, 55422
CATEGORIES:Community Calendar
GEO:45.0311141;-93.3419862
X-APPLE-STRUCTURED-LOCATION;VALUE=URI;X-ADDRESS=Robbinsdale Historic Library 4915 - 42nd Ave. N. Robbinsdale Minnesota 55422;X-APPLE-RADIUS=500;X-TITLE=4915 - 42nd Ave. N.:geo:-93.3419862,45.0311141
END:VEVENT
END:VCALENDAR