BEGIN:VCALENDAR
VERSION:2.0
PRODID:-//CCX Media - ECPv6.15.12.2//NONSGML v1.0//EN
CALSCALE:GREGORIAN
METHOD:PUBLISH
X-ORIGINAL-URL:https://ccxmedia.org
X-WR-CALDESC:Events for CCX Media
REFRESH-INTERVAL;VALUE=DURATION:PT1H
X-Robots-Tag:noindex
X-PUBLISHED-TTL:PT1H
BEGIN:VTIMEZONE
TZID:America/Chicago
BEGIN:DAYLIGHT
TZOFFSETFROM:-0600
TZOFFSETTO:-0500
TZNAME:CDT
DTSTART:20250309T080000
END:DAYLIGHT
BEGIN:STANDARD
TZOFFSETFROM:-0500
TZOFFSETTO:-0600
TZNAME:CST
DTSTART:20251102T070000
END:STANDARD
BEGIN:DAYLIGHT
TZOFFSETFROM:-0600
TZOFFSETTO:-0500
TZNAME:CDT
DTSTART:20260308T080000
END:DAYLIGHT
BEGIN:STANDARD
TZOFFSETFROM:-0500
TZOFFSETTO:-0600
TZNAME:CST
DTSTART:20261101T070000
END:STANDARD
BEGIN:DAYLIGHT
TZOFFSETFROM:-0600
TZOFFSETTO:-0500
TZNAME:CDT
DTSTART:20270314T080000
END:DAYLIGHT
BEGIN:STANDARD
TZOFFSETFROM:-0500
TZOFFSETTO:-0600
TZNAME:CST
DTSTART:20271107T070000
END:STANDARD
END:VTIMEZONE
BEGIN:VEVENT
DTSTART;TZID=America/Chicago:20260314T120000
DTEND;TZID=America/Chicago:20260314T150000
DTSTAMP:20260419T225912
CREATED:20260226T023834Z
LAST-MODIFIED:20260226T023834Z
UID:10000694-1773489600-1773500400@ccxmedia.org
SUMMARY:PRISM Pack in Action
DESCRIPTION:PRISM’s marketplace food shelf in golden valley is opening its doors for a special open house and public packing event in celebration of Minnesota’s March Foodshare. \nSponsored
URL:https://ccxmedia.org/event/prism-pack-in-action/
LOCATION:PRISM Food Shelf\, 1220 Zane Ave. N.\, Golden Valley\, Minnesota\, 55422
CATEGORIES:Community Calendar
GEO:44.9918688;-93.3551656
X-APPLE-STRUCTURED-LOCATION;VALUE=URI;X-ADDRESS=PRISM Food Shelf 1220 Zane Ave. N. Golden Valley Minnesota 55422;X-APPLE-RADIUS=500;X-TITLE=1220 Zane Ave. N.:geo:-93.3551656,44.9918688
END:VEVENT
END:VCALENDAR