BEGIN:VCALENDAR
VERSION:2.0
PRODID:-//CCX Media - ECPv6.15.12.2//NONSGML v1.0//EN
CALSCALE:GREGORIAN
METHOD:PUBLISH
X-ORIGINAL-URL:https://ccxmedia.org
X-WR-CALDESC:Events for CCX Media
REFRESH-INTERVAL;VALUE=DURATION:PT1H
X-Robots-Tag:noindex
X-PUBLISHED-TTL:PT1H
BEGIN:VTIMEZONE
TZID:America/Chicago
BEGIN:DAYLIGHT
TZOFFSETFROM:-0600
TZOFFSETTO:-0500
TZNAME:CDT
DTSTART:20250309T080000
END:DAYLIGHT
BEGIN:STANDARD
TZOFFSETFROM:-0500
TZOFFSETTO:-0600
TZNAME:CST
DTSTART:20251102T070000
END:STANDARD
BEGIN:DAYLIGHT
TZOFFSETFROM:-0600
TZOFFSETTO:-0500
TZNAME:CDT
DTSTART:20260308T080000
END:DAYLIGHT
BEGIN:STANDARD
TZOFFSETFROM:-0500
TZOFFSETTO:-0600
TZNAME:CST
DTSTART:20261101T070000
END:STANDARD
BEGIN:DAYLIGHT
TZOFFSETFROM:-0600
TZOFFSETTO:-0500
TZNAME:CDT
DTSTART:20270314T080000
END:DAYLIGHT
BEGIN:STANDARD
TZOFFSETFROM:-0500
TZOFFSETTO:-0600
TZNAME:CST
DTSTART:20271107T070000
END:STANDARD
END:VTIMEZONE
BEGIN:VEVENT
DTSTART;TZID=America/Chicago:20260514T090000
DTEND;TZID=America/Chicago:20260514T170000
DTSTAMP:20260422T095308
CREATED:20260409T021923Z
LAST-MODIFIED:20260409T021923Z
UID:10000757-1778749200-1778778000@ccxmedia.org
SUMMARY:Osseo City Wide Garage Sale and Craft Sale
DESCRIPTION:The Osseo Citywide Garage Sale is an annual tradition each May\, bringing neighbors together for a weekend of treasure hunting\, bargain shopping\, and community fun. Held the same weekend as the InterMarque Vintage Foreign Car Show\, it’s one of the most exciting weekends of the year in Osseo.  Garage sale dates are May 14 to May 17. \nSponsored
URL:https://ccxmedia.org/event/osseo-city-wide-garage-sale-and-craft-sale/
LOCATION:Osseo Community Center\, 415 Central Ave\, Osseo\, Minnesota\, 55369
CATEGORIES:Community Calendar
GEO:45.120788;-93.4025695
X-APPLE-STRUCTURED-LOCATION;VALUE=URI;X-ADDRESS=Osseo Community Center 415 Central Ave Osseo Minnesota 55369;X-APPLE-RADIUS=500;X-TITLE=415 Central Ave:geo:-93.4025695,45.120788
END:VEVENT
END:VCALENDAR