BEGIN:VCALENDAR
VERSION:2.0
PRODID:-//CCX Media - ECPv6.15.12.2//NONSGML v1.0//EN
CALSCALE:GREGORIAN
METHOD:PUBLISH
X-ORIGINAL-URL:https://ccxmedia.org
X-WR-CALDESC:Events for CCX Media
REFRESH-INTERVAL;VALUE=DURATION:PT1H
X-Robots-Tag:noindex
X-PUBLISHED-TTL:PT1H
BEGIN:VTIMEZONE
TZID:America/Chicago
BEGIN:DAYLIGHT
TZOFFSETFROM:-0600
TZOFFSETTO:-0500
TZNAME:CDT
DTSTART:20250309T080000
END:DAYLIGHT
BEGIN:STANDARD
TZOFFSETFROM:-0500
TZOFFSETTO:-0600
TZNAME:CST
DTSTART:20251102T070000
END:STANDARD
BEGIN:DAYLIGHT
TZOFFSETFROM:-0600
TZOFFSETTO:-0500
TZNAME:CDT
DTSTART:20260308T080000
END:DAYLIGHT
BEGIN:STANDARD
TZOFFSETFROM:-0500
TZOFFSETTO:-0600
TZNAME:CST
DTSTART:20261101T070000
END:STANDARD
BEGIN:DAYLIGHT
TZOFFSETFROM:-0600
TZOFFSETTO:-0500
TZNAME:CDT
DTSTART:20270314T080000
END:DAYLIGHT
BEGIN:STANDARD
TZOFFSETFROM:-0500
TZOFFSETTO:-0600
TZNAME:CST
DTSTART:20271107T070000
END:STANDARD
END:VTIMEZONE
BEGIN:VEVENT
DTSTART;TZID=America/Chicago:20260326T170000
DTEND;TZID=America/Chicago:20260326T190000
DTSTAMP:20260420T004105
CREATED:20260226T023036Z
LAST-MODIFIED:20260226T023115Z
UID:10000693-1774544400-1774551600@ccxmedia.org
SUMMARY:NEAR Empty Bowls
DESCRIPTION:Empty Bowls is a community fundraiser supporting NEAR Food Shelf. This event has united volunteers\, local businesses\, and neighbors to fight hunger. The free event includes food samples. great entertainment\, hand made bowls that can be taken home with any donation. \nSponsored
URL:https://ccxmedia.org/event/near-empty-bowls/
LOCATION:New Hope Church\, 4225 Gettysburg Ave N\, New Hope\, Minnesota\, 55428
CATEGORIES:Community Calendar
GEO:45.0347099;-93.3974764
X-APPLE-STRUCTURED-LOCATION;VALUE=URI;X-ADDRESS=New Hope Church 4225 Gettysburg Ave N New Hope Minnesota 55428;X-APPLE-RADIUS=500;X-TITLE=4225 Gettysburg Ave N:geo:-93.3974764,45.0347099
END:VEVENT
END:VCALENDAR