BEGIN:VCALENDAR
VERSION:2.0
PRODID:-//CCX Media - ECPv6.15.12.2//NONSGML v1.0//EN
CALSCALE:GREGORIAN
METHOD:PUBLISH
X-WR-CALNAME:CCX Media
X-ORIGINAL-URL:https://ccxmedia.org
X-WR-CALDESC:Events for CCX Media
REFRESH-INTERVAL;VALUE=DURATION:PT1H
X-Robots-Tag:noindex
X-PUBLISHED-TTL:PT1H
BEGIN:VTIMEZONE
TZID:America/Chicago
BEGIN:DAYLIGHT
TZOFFSETFROM:-0600
TZOFFSETTO:-0500
TZNAME:CDT
DTSTART:20250309T080000
END:DAYLIGHT
BEGIN:STANDARD
TZOFFSETFROM:-0500
TZOFFSETTO:-0600
TZNAME:CST
DTSTART:20251102T070000
END:STANDARD
BEGIN:DAYLIGHT
TZOFFSETFROM:-0600
TZOFFSETTO:-0500
TZNAME:CDT
DTSTART:20260308T080000
END:DAYLIGHT
BEGIN:STANDARD
TZOFFSETFROM:-0500
TZOFFSETTO:-0600
TZNAME:CST
DTSTART:20261101T070000
END:STANDARD
BEGIN:DAYLIGHT
TZOFFSETFROM:-0600
TZOFFSETTO:-0500
TZNAME:CDT
DTSTART:20270314T080000
END:DAYLIGHT
BEGIN:STANDARD
TZOFFSETFROM:-0500
TZOFFSETTO:-0600
TZNAME:CST
DTSTART:20271107T070000
END:STANDARD
END:VTIMEZONE
BEGIN:VEVENT
DTSTART;TZID=America/Chicago:20260606T110000
DTEND;TZID=America/Chicago:20260606T150000
DTSTAMP:20260424T001056
CREATED:20260424T015457Z
LAST-MODIFIED:20260424T015457Z
UID:10000769-1780743600-1780758000@ccxmedia.org
SUMMARY:Family Safety Extravaganza
DESCRIPTION:The First Annual Family Safety Extravaganza presented by the IBEW Local Safety Committee.  The event will include food\, door prizes\, kids activities\, safety vendors and demonstrations.  
URL:https://ccxmedia.org/event/family-safety-extravaganza/
LOCATION:IBEW Local 292 Facililty\, 6700 West Broadway\, Brooklyn Park\, Minnesota\, 55428
CATEGORIES:Community Calendar
GEO:45.0772591;-93.3750179
X-APPLE-STRUCTURED-LOCATION;VALUE=URI;X-ADDRESS=IBEW Local 292 Facililty 6700 West Broadway Brooklyn Park Minnesota 55428;X-APPLE-RADIUS=500;X-TITLE=6700 West Broadway:geo:-93.3750179,45.0772591
END:VEVENT
BEGIN:VEVENT
DTSTART;TZID=America/Chicago:20260617T103000
DTEND;TZID=America/Chicago:20260617T111500
DTSTAMP:20260424T001056
CREATED:20260424T013649Z
LAST-MODIFIED:20260424T013649Z
UID:10000768-1781692200-1781694900@ccxmedia.org
SUMMARY:Crystal Storytime in the Park - Cinderella
DESCRIPTION:All ages are welcome to enjoy these special story times hosted by the cities of New Hope\, Crystal\, Golden Valley\, and Robbinsdale.  The free events run from 10:30 – 11:15am.  From rags to riches this princess takes you on a journey filled with mice\, mean step-sisters\, and a magical fairy godmother.
URL:https://ccxmedia.org/event/crystal-storytime-in-the-park-cinderella/
LOCATION:New Hope Perforrnance Center\, 4401 Xylon Ave.. N.\, New Hope\, Minnesota\, 55428
CATEGORIES:Community Calendar
GEO:45.0348427;-93.3858214
X-APPLE-STRUCTURED-LOCATION;VALUE=URI;X-ADDRESS=New Hope Perforrnance Center 4401 Xylon Ave.. N. New Hope Minnesota 55428;X-APPLE-RADIUS=500;X-TITLE=4401 Xylon Ave.. N.:geo:-93.3858214,45.0348427
END:VEVENT
END:VCALENDAR