BEGIN:VCALENDAR
VERSION:2.0
PRODID:-//CCX Media - ECPv6.15.12.2//NONSGML v1.0//EN
CALSCALE:GREGORIAN
METHOD:PUBLISH
X-ORIGINAL-URL:https://ccxmedia.org
X-WR-CALDESC:Events for CCX Media
REFRESH-INTERVAL;VALUE=DURATION:PT1H
X-Robots-Tag:noindex
X-PUBLISHED-TTL:PT1H
BEGIN:VTIMEZONE
TZID:America/Chicago
BEGIN:DAYLIGHT
TZOFFSETFROM:-0600
TZOFFSETTO:-0500
TZNAME:CDT
DTSTART:20240310T080000
END:DAYLIGHT
BEGIN:STANDARD
TZOFFSETFROM:-0500
TZOFFSETTO:-0600
TZNAME:CST
DTSTART:20241103T070000
END:STANDARD
BEGIN:DAYLIGHT
TZOFFSETFROM:-0600
TZOFFSETTO:-0500
TZNAME:CDT
DTSTART:20250309T080000
END:DAYLIGHT
BEGIN:STANDARD
TZOFFSETFROM:-0500
TZOFFSETTO:-0600
TZNAME:CST
DTSTART:20251102T070000
END:STANDARD
BEGIN:DAYLIGHT
TZOFFSETFROM:-0600
TZOFFSETTO:-0500
TZNAME:CDT
DTSTART:20260308T080000
END:DAYLIGHT
BEGIN:STANDARD
TZOFFSETFROM:-0500
TZOFFSETTO:-0600
TZNAME:CST
DTSTART:20261101T070000
END:STANDARD
END:VTIMEZONE
BEGIN:VEVENT
DTSTART;TZID=America/Chicago:20251121T170000
DTEND;TZID=America/Chicago:20251121T190000
DTSTAMP:20260419T133202
CREATED:20251114T044225Z
LAST-MODIFIED:20251122T005724Z
UID:10000570-1763744400-1763751600@ccxmedia.org
SUMMARY:⚫ Turkey Trot Boys Hockey Tournament: Moorhead vs Edina
DESCRIPTION:Watch Live on CCX: https://ccxmedia.org/watch-live/\nWatch on Demand: https://ccxmedia.org/show-details/?ShowID=39045
URL:https://ccxmedia.org/event/%e2%9a%ab-turkey-trot-boys-hockey-tournament-edina-vs-maple-grove-2/
CATEGORIES:Upcoming Event Coverage
END:VEVENT
BEGIN:VEVENT
DTSTART;TZID=America/Chicago:20251121T191500
DTEND;TZID=America/Chicago:20251121T211500
DTSTAMP:20260419T133202
CREATED:20251119T024224Z
LAST-MODIFIED:20251122T025723Z
UID:10000576-1763752500-1763759700@ccxmedia.org
SUMMARY:⚫ Turkey Trot Boys Hockey Tournament: Maple Grove vs Wayzata
DESCRIPTION:Watch Live on CCX: https://ccxmedia.org/watch-live/\nWatch on Demand: https://ccxmedia.org/show-details/?ShowID=39046
URL:https://ccxmedia.org/event/%e2%9a%ab-turkey-trot-boys-hockey-tournament-maple-grove-vs-wayzata-2/
CATEGORIES:Upcoming Event Coverage
END:VEVENT
BEGIN:VEVENT
DTSTART;TZID=America/Chicago:20251122T143000
DTEND;TZID=America/Chicago:20251122T163000
DTSTAMP:20260419T133202
CREATED:20251119T024224Z
LAST-MODIFIED:20251122T215723Z
UID:10000577-1763821800-1763829000@ccxmedia.org
SUMMARY:⚫ Turkey Trot Boys Hockey Tournament: Maple Grove vs Edina
DESCRIPTION:Watch Live on CCX: https://ccxmedia.org/watch-live/\nWatch on Demand: https://ccxmedia.org/show-details/?ShowID=39047
URL:https://ccxmedia.org/event/%e2%9a%ab-turkey-trot-boys-hockey-tournament-maple-grove-vs-edina/
CATEGORIES:Upcoming Event Coverage
END:VEVENT
BEGIN:VEVENT
DTSTART;TZID=America/Chicago:20251122T170000
DTEND;TZID=America/Chicago:20251122T190000
DTSTAMP:20260419T133202
CREATED:20251119T024224Z
LAST-MODIFIED:20251123T001224Z
UID:10000578-1763830800-1763838000@ccxmedia.org
SUMMARY:⚫ Turkey Trot Boys Hockey Tournament: Moorhead vs Wayzata
DESCRIPTION:Watch Live on CCX: https://ccxmedia.org/watch-live/\nWatch on Demand: https://ccxmedia.org/show-details/?ShowID=39048
URL:https://ccxmedia.org/event/%e2%9a%ab-turkey-trot-boys-hockey-tournament-moorhead-vs-wayzata-2/
CATEGORIES:Upcoming Event Coverage
END:VEVENT
END:VCALENDAR