BEGIN:VCALENDAR
VERSION:2.0
PRODID:-//CCX Media - ECPv6.15.12.2//NONSGML v1.0//EN
CALSCALE:GREGORIAN
METHOD:PUBLISH
X-ORIGINAL-URL:https://ccxmedia.org
X-WR-CALDESC:Events for CCX Media
REFRESH-INTERVAL;VALUE=DURATION:PT1H
X-Robots-Tag:noindex
X-PUBLISHED-TTL:PT1H
BEGIN:VTIMEZONE
TZID:America/Chicago
BEGIN:DAYLIGHT
TZOFFSETFROM:-0600
TZOFFSETTO:-0500
TZNAME:CDT
DTSTART:20230312T080000
END:DAYLIGHT
BEGIN:STANDARD
TZOFFSETFROM:-0500
TZOFFSETTO:-0600
TZNAME:CST
DTSTART:20231105T070000
END:STANDARD
BEGIN:DAYLIGHT
TZOFFSETFROM:-0600
TZOFFSETTO:-0500
TZNAME:CDT
DTSTART:20240310T080000
END:DAYLIGHT
BEGIN:STANDARD
TZOFFSETFROM:-0500
TZOFFSETTO:-0600
TZNAME:CST
DTSTART:20241103T070000
END:STANDARD
BEGIN:DAYLIGHT
TZOFFSETFROM:-0600
TZOFFSETTO:-0500
TZNAME:CDT
DTSTART:20250309T080000
END:DAYLIGHT
BEGIN:STANDARD
TZOFFSETFROM:-0500
TZOFFSETTO:-0600
TZNAME:CST
DTSTART:20251102T070000
END:STANDARD
END:VTIMEZONE
BEGIN:VEVENT
DTSTART;TZID=America/Chicago:20240116T190000
DTEND;TZID=America/Chicago:20240116T210000
DTSTAMP:20260420T065351
CREATED:20231128T221229Z
LAST-MODIFIED:20240117T022728Z
UID:10000179-1705431600-1705438800@ccxmedia.org
SUMMARY:🏀 Elk River at Osseo Boys Basketball
DESCRIPTION:Watch Live on CCX: https://ccxmedia.org/watch-live/\nWatch on Demand: https://ccxmedia.org/show-details/?ShowID=32514
URL:https://ccxmedia.org/event/%f0%9f%8f%80-elk-river-at-osseo-boys-basketball/
CATEGORIES:Upcoming Event Coverage
END:VEVENT
BEGIN:VEVENT
DTSTART;TZID=America/Chicago:20240118T190000
DTEND;TZID=America/Chicago:20240118T210000
DTSTAMP:20260420T065351
CREATED:20231128T221229Z
LAST-MODIFIED:20240119T021224Z
UID:10000180-1705604400-1705611600@ccxmedia.org
SUMMARY:⚫ Champlin Park at Maple Grove Boys Hockey
DESCRIPTION:Watch Live on CCX: https://ccxmedia.org/watch-live/\nWatch on Demand: https://ccxmedia.org/show-details/?ShowID=32515
URL:https://ccxmedia.org/event/%e2%9a%ab-champlin-park-at-maple-grove-boys-hockey/
CATEGORIES:Upcoming Event Coverage
END:VEVENT
BEGIN:VEVENT
DTSTART;TZID=America/Chicago:20240119T170000
DTEND;TZID=America/Chicago:20240119T190000
DTSTAMP:20260420T065351
CREATED:20231128T221229Z
LAST-MODIFIED:20240119T132721Z
UID:10000181-1705683600-1705690800@ccxmedia.org
SUMMARY:🏀 Osseo at Maple Grove Girls Basketball
DESCRIPTION:Watch Live on CCX: https://ccxmedia.org/watch-live/\nWatch on Demand: https://ccxmedia.org/show-details/?ShowID=32511
URL:https://ccxmedia.org/event/%f0%9f%8f%80-osseo-at-maple-grove-girls-basketball/
CATEGORIES:Upcoming Event Coverage
END:VEVENT
BEGIN:VEVENT
DTSTART;TZID=America/Chicago:20240119T184500
DTEND;TZID=America/Chicago:20240119T204500
DTSTAMP:20260420T065351
CREATED:20231128T221229Z
LAST-MODIFIED:20240119T132722Z
UID:10000182-1705689900-1705697100@ccxmedia.org
SUMMARY:🏀 Osseo at Maple Grove Boys Basketball
DESCRIPTION:Watch Live on CCX: https://ccxmedia.org/watch-live/\nWatch on Demand: https://ccxmedia.org/show-details/?ShowID=32513
URL:https://ccxmedia.org/event/%f0%9f%8f%80-osseo-at-maple-grove-boys-basketball/
CATEGORIES:Upcoming Event Coverage
END:VEVENT
END:VCALENDAR