BEGIN:VCALENDAR
VERSION:2.0
PRODID:-//CCX Media - ECPv6.15.12.2//NONSGML v1.0//EN
CALSCALE:GREGORIAN
METHOD:PUBLISH
X-WR-CALNAME:CCX Media
X-ORIGINAL-URL:https://ccxmedia.org
X-WR-CALDESC:Events for CCX Media
REFRESH-INTERVAL;VALUE=DURATION:PT1H
X-Robots-Tag:noindex
X-PUBLISHED-TTL:PT1H
BEGIN:VTIMEZONE
TZID:America/Chicago
BEGIN:DAYLIGHT
TZOFFSETFROM:-0600
TZOFFSETTO:-0500
TZNAME:CDT
DTSTART:20250309T080000
END:DAYLIGHT
BEGIN:STANDARD
TZOFFSETFROM:-0500
TZOFFSETTO:-0600
TZNAME:CST
DTSTART:20251102T070000
END:STANDARD
BEGIN:DAYLIGHT
TZOFFSETFROM:-0600
TZOFFSETTO:-0500
TZNAME:CDT
DTSTART:20260308T080000
END:DAYLIGHT
BEGIN:STANDARD
TZOFFSETFROM:-0500
TZOFFSETTO:-0600
TZNAME:CST
DTSTART:20261101T070000
END:STANDARD
BEGIN:DAYLIGHT
TZOFFSETFROM:-0600
TZOFFSETTO:-0500
TZNAME:CDT
DTSTART:20270314T080000
END:DAYLIGHT
BEGIN:STANDARD
TZOFFSETFROM:-0500
TZOFFSETTO:-0600
TZNAME:CST
DTSTART:20271107T070000
END:STANDARD
END:VTIMEZONE
BEGIN:VEVENT
DTSTART;TZID=America/Chicago:20260424T100000
DTEND;TZID=America/Chicago:20260424T210000
DTSTAMP:20260424T023910
CREATED:20260316T031346Z
LAST-MODIFIED:20260316T031346Z
UID:10000718-1777024800-1777064400@ccxmedia.org
SUMMARY:Primavera - Plymouth's Annual Springtime Celebration of the Arts
DESCRIPTION:A partnership of the City of Plymouth and Plymouth Arts Council\, the four-day event provides an opportunity for the public to view and celebrate fine art. Original juried artwork by local and regional artists\, as well as artwork by Plymouth area high school students\, will be featured in the art gallery and Plymouth Room at the community center. \nThursday\, April 23 \nPlymouth READS Literary Night. More details coming soon. \n  \nFriday\, April 24\nExhibit Open: 10 a.m. to 9 p.m.\nLive Entertainment & Refreshments: 6-7 p.m.\nPrimavera Awards Ceremony: 7-8 p.m. \n\nSaturday\, April 25\nExhibit Open: 8 a.m. to 8 p.m.\nLive Entertainment: 10 a.m. to noon\nArtist Talk: 1-2 p.m.\nEvent Entertainment: 3-4 p.m. \n\nSunday\, April 26 through Friday\, June 5\nExhibit Open: 8 a.m. to 8 p.m. \n  \nAdult artwork will remain on display in the Plymouth Community Center Art Gallery for public viewing through Friday\, June 5. Gallery hours are 8 a.m. to 8 p.m. daily.
URL:https://ccxmedia.org/event/primavera-plymouths-annual-springtime-celebration-of-the-arts/
LOCATION:Plymouth Community Center\, 14800 - 34th ave N\, Plymouth\, Minnesota\, 55447
CATEGORIES:Community Calendar
GEO:45.0212826;-93.467885
X-APPLE-STRUCTURED-LOCATION;VALUE=URI;X-ADDRESS=Plymouth Community Center 14800 - 34th ave N Plymouth Minnesota 55447;X-APPLE-RADIUS=500;X-TITLE=14800 - 34th ave N:geo:-93.467885,45.0212826
END:VEVENT
END:VCALENDAR